BEGIN:VCALENDAR
VERSION:2.0
PRODID:-//Early Childhood Leadership Institute - ECPv6.15.20//NONSGML v1.0//EN
CALSCALE:GREGORIAN
METHOD:PUBLISH
X-WR-CALNAME:Early Childhood Leadership Institute
X-ORIGINAL-URL:https://eclinj.org
X-WR-CALDESC:Events for Early Childhood Leadership Institute
REFRESH-INTERVAL;VALUE=DURATION:PT1H
X-Robots-Tag:noindex
X-PUBLISHED-TTL:PT1H
BEGIN:VTIMEZONE
TZID:America/New_York
BEGIN:DAYLIGHT
TZOFFSETFROM:-0500
TZOFFSETTO:-0400
TZNAME:EDT
DTSTART:20250309T070000
END:DAYLIGHT
BEGIN:STANDARD
TZOFFSETFROM:-0400
TZOFFSETTO:-0500
TZNAME:EST
DTSTART:20251102T060000
END:STANDARD
BEGIN:DAYLIGHT
TZOFFSETFROM:-0500
TZOFFSETTO:-0400
TZNAME:EDT
DTSTART:20260308T070000
END:DAYLIGHT
BEGIN:STANDARD
TZOFFSETFROM:-0400
TZOFFSETTO:-0500
TZNAME:EST
DTSTART:20261101T060000
END:STANDARD
BEGIN:DAYLIGHT
TZOFFSETFROM:-0500
TZOFFSETTO:-0400
TZNAME:EDT
DTSTART:20270314T070000
END:DAYLIGHT
BEGIN:STANDARD
TZOFFSETFROM:-0400
TZOFFSETTO:-0500
TZNAME:EST
DTSTART:20271107T060000
END:STANDARD
END:VTIMEZONE
BEGIN:VEVENT
DTSTART;TZID=America/New_York:20260423T100000
DTEND;TZID=America/New_York:20260423T110000
DTSTAMP:20260423T024946
CREATED:20250805T191732Z
LAST-MODIFIED:20250805T191732Z
UID:9437-1776938400-1776942000@eclinj.org
SUMMARY:Reflective Session: ITS
DESCRIPTION:
URL:https://eclinj.org/event/reflective-session-its-2/
CATEGORIES:ITS: PD Events Calendar
END:VEVENT
BEGIN:VEVENT
DTSTART;TZID=America/New_York:20260423T130000
DTEND;TZID=America/New_York:20260423T143000
DTSTAMP:20260423T024946
CREATED:20251030T203559Z
LAST-MODIFIED:20251030T203559Z
UID:9641-1776949200-1776954600@eclinj.org
SUMMARY:1:1 TAS Coaching (session 5)
DESCRIPTION:
URL:https://eclinj.org/event/11-tas-coaching-session-5/
CATEGORIES:TAS/DHS TAS, QRC, STAS: PD Events Calendar
END:VEVENT
BEGIN:VEVENT
DTSTART;TZID=America/New_York:20260423T130000
DTEND;TZID=America/New_York:20260423T143000
DTSTAMP:20260423T024946
CREATED:20260218T162847Z
LAST-MODIFIED:20260218T162847Z
UID:9806-1776949200-1776954600@eclinj.org
SUMMARY:ITS 1:1 Coaching Session #17
DESCRIPTION:
URL:https://eclinj.org/event/its-11-coaching-session-17-2/
CATEGORIES:ITS: PD Events Calendar
END:VEVENT
END:VCALENDAR